BEGIN:VCALENDAR
VERSION:2.0
PRODID:-//Towcester u3a - ECPv6.15.20//NONSGML v1.0//EN
CALSCALE:GREGORIAN
METHOD:PUBLISH
X-WR-CALNAME:Towcester u3a
X-ORIGINAL-URL:https://www.towcesteru3a.co.uk
X-WR-CALDESC:Events for Towcester u3a
REFRESH-INTERVAL;VALUE=DURATION:PT1H
X-Robots-Tag:noindex
X-PUBLISHED-TTL:PT1H
BEGIN:VTIMEZONE
TZID:Europe/London
BEGIN:DAYLIGHT
TZOFFSETFROM:+0000
TZOFFSETTO:+0100
TZNAME:BST
DTSTART:20180325T010000
END:DAYLIGHT
BEGIN:STANDARD
TZOFFSETFROM:+0100
TZOFFSETTO:+0000
TZNAME:GMT
DTSTART:20181028T010000
END:STANDARD
BEGIN:DAYLIGHT
TZOFFSETFROM:+0000
TZOFFSETTO:+0100
TZNAME:BST
DTSTART:20190331T010000
END:DAYLIGHT
BEGIN:STANDARD
TZOFFSETFROM:+0100
TZOFFSETTO:+0000
TZNAME:GMT
DTSTART:20191027T010000
END:STANDARD
BEGIN:DAYLIGHT
TZOFFSETFROM:+0000
TZOFFSETTO:+0100
TZNAME:BST
DTSTART:20200329T010000
END:DAYLIGHT
BEGIN:STANDARD
TZOFFSETFROM:+0100
TZOFFSETTO:+0000
TZNAME:GMT
DTSTART:20201025T010000
END:STANDARD
BEGIN:DAYLIGHT
TZOFFSETFROM:+0000
TZOFFSETTO:+0100
TZNAME:BST
DTSTART:20210328T010000
END:DAYLIGHT
BEGIN:STANDARD
TZOFFSETFROM:+0100
TZOFFSETTO:+0000
TZNAME:GMT
DTSTART:20211031T010000
END:STANDARD
END:VTIMEZONE
BEGIN:VEVENT
DTSTART;TZID=Europe/London:20200129T140000
DTEND;TZID=Europe/London:20200129T160000
DTSTAMP:20260423T073640
CREATED:20191023T170601Z
LAST-MODIFIED:20191023T170601Z
UID:2633-1580306400-1580313600@www.towcesteru3a.co.uk
SUMMARY:Monthly Meeting
DESCRIPTION:Our speaker is Helen Frost “The Women’s Land Army in Northamptonshire during the First World War”.  \nHelen Frost is a lecturer in Literacy and Adult Support. Her passion\, however\, outside of work is the legacy of the Great War. For several years she has researched in depth the often forgotten\, largely overlooked and for the most part unknown Women’s Land Army. She has also focussed on the role and contribution that her home county of Northamptonshire made with its own Women’s Land Army. The story is inspirational and can encourage people generally to see what can be achieved and what is possible even if it is something that has not been attempted or done before. Helen is also a member of the Western Front Association\, a charitable organisation which perpetuates the memory\, courage and companionship of those who took part in the Great War in whatever capacity.
URL:https://www.towcesteru3a.co.uk/event/monthly-meeting-13
LOCATION:Towcestrians Rugby Club\, Greens Norton Road\, Towcester\, NN12 8AW
END:VEVENT
BEGIN:VEVENT
DTSTART;TZID=Europe/London:20200116T140000
DTEND;TZID=Europe/London:20200116T153000
DTSTAMP:20260423T073640
CREATED:20191023T172546Z
LAST-MODIFIED:20191023T172547Z
UID:2649-1579183200-1579188600@www.towcesteru3a.co.uk
SUMMARY:Quiz at the Sawpits
DESCRIPTION:No team required just turn up
URL:https://www.towcesteru3a.co.uk/event/quiz-at-the-sawpits-3
LOCATION:The Sawpits Centre\, Richmond Road\, Towcester
END:VEVENT
BEGIN:VEVENT
DTSTART;VALUE=DATE:20200108
DTEND;VALUE=DATE:20200109
DTSTAMP:20260423T073640
CREATED:20190926T145019Z
LAST-MODIFIED:20190926T145019Z
UID:2596-1578441600-1578527999@www.towcesteru3a.co.uk
SUMMARY:Garden Visits - Planning Meeting
DESCRIPTION:Planning Meeting Probably Saracens Head Towcester TBC\nPlease see Carole at the monthly meeting or call 01327 352564
URL:https://www.towcesteru3a.co.uk/event/garden-visits-planning-meeting
END:VEVENT
BEGIN:VEVENT
DTSTART;TZID=Europe/London:20191211T130000
DTEND;TZID=Europe/London:20191211T170000
DTSTAMP:20260423T073640
CREATED:20190926T145237Z
LAST-MODIFIED:20190926T145237Z
UID:2598-1576069200-1576083600@www.towcesteru3a.co.uk
SUMMARY:Theatre Visits - Aladdin
DESCRIPTION:Seats have now been reserved for Aladdin on Wednesday 11th December 1pm £16 Pay by 1st November
URL:https://www.towcesteru3a.co.uk/event/theatre-visits-aladdin
END:VEVENT
BEGIN:VEVENT
DTSTART;TZID=Europe/London:20191203T140000
DTEND;TZID=Europe/London:20191203T153000
DTSTAMP:20260423T073640
CREATED:20191023T172023Z
LAST-MODIFIED:20191023T172234Z
UID:2643-1575381600-1575387000@www.towcesteru3a.co.uk
SUMMARY:Quiz at the Sawpits
DESCRIPTION:No teams required just turn up
URL:https://www.towcesteru3a.co.uk/event/quiz-at-the-sawpits
LOCATION:The Sawpits Centre\, Richmond Road\, Towcester
END:VEVENT
BEGIN:VEVENT
DTSTART;TZID=Europe/London:20191129T123000
DTEND;TZID=Europe/London:20191129T150000
DTSTAMP:20260423T073640
CREATED:20190926T144546Z
LAST-MODIFIED:20190926T144546Z
UID:2593-1575030600-1575039600@www.towcesteru3a.co.uk
SUMMARY:Garden Visits - Christmas Lunch
DESCRIPTION:Christmas Meal Silverstone Golf Club arrive 12.30pm
URL:https://www.towcesteru3a.co.uk/event/garden-visits-christmas-lunch-2
LOCATION:Silverstone Golf Club\, Silverstone Road\, Stowe\, MK18 5LH
END:VEVENT
BEGIN:VEVENT
DTSTART;VALUE=DATE:20191129
DTEND;VALUE=DATE:20191130
DTSTAMP:20260423T073640
CREATED:20190731T201608Z
LAST-MODIFIED:20190731T201646Z
UID:2545-1574985600-1575071999@www.towcesteru3a.co.uk
SUMMARY:Garden Visits - Christmas Lunch
DESCRIPTION:See Carol Hunt as usual for details and bookings. Time to be confirmed \nNovember 29th
URL:https://www.towcesteru3a.co.uk/event/garden-visits-christmas-lunch
END:VEVENT
BEGIN:VEVENT
DTSTART;TZID=Europe/London:20191127T140000
DTEND;TZID=Europe/London:20191127T160000
DTSTAMP:20260423T073640
CREATED:20190926T143256Z
LAST-MODIFIED:20190926T143256Z
UID:2586-1574863200-1574870400@www.towcesteru3a.co.uk
SUMMARY:Monthly Meeting
DESCRIPTION:Andrew Tennet will talk about “30 years with Northamptonshire Police“.
URL:https://www.towcesteru3a.co.uk/event/monthly-meeting-12
LOCATION:Towcestrians Rugby Club\, Greens Norton Rd\,\, Towcester\, NN12 8AW
END:VEVENT
BEGIN:VEVENT
DTSTART;TZID=Europe/London:20191127T140000
DTEND;TZID=Europe/London:20191127T160000
DTSTAMP:20260423T073640
CREATED:20190621T132011Z
LAST-MODIFIED:20190621T132116Z
UID:2498-1574863200-1574870400@www.towcesteru3a.co.uk
SUMMARY:Monthly Meeting
DESCRIPTION:Andrew Tennet “30 years Service with Northamptonshire Police” \nOur speaker in November is “home grown”. Andrew Tennet is a member of To w c e s t e r U 3 A . H i s  t a l k  w i l l  c o v e r  h i s s e r v i c e w i t h N o r t h a m p t o n s h i r e Po l i c e from joining as a young Police Constable in November 1983 through to his retirement as a Detective Chief Inspector and focuses on his many experiences during that time. It follows his career from Community Constable to Sergeant and Inspector on reactive shifts to his progression to criminal investigation\, his specialism as a Senior Investigating Officer with the Force’s Homicide and Major Crime Team and latterly with the Professional Standards Department. His career came to a close working for Her Majesty’s Inspector of Constabulary. The presentation covers the ups and downs of a 30 year career including many anecdotes and stories of the good\, the not so good and the bizarre.
URL:https://www.towcesteru3a.co.uk/event/monthly-meeting-10
LOCATION:Towcestrians Rugby Club\, Greens Norton Road\, Towcester\, NN12 8AW
END:VEVENT
BEGIN:VEVENT
DTSTART;TZID=Europe/London:20191125T090000
DTEND;TZID=Europe/London:20191125T180000
DTSTAMP:20260423T073640
CREATED:20190926T150413Z
LAST-MODIFIED:20190926T150413Z
UID:2608-1574672400-1574704800@www.towcesteru3a.co.uk
SUMMARY:Coach Trip
DESCRIPTION:Winchester \nNovember. Cost £13. Depart Towcester 9am Return Departure 4pm
URL:https://www.towcesteru3a.co.uk/event/coach-trip
END:VEVENT
BEGIN:VEVENT
DTSTART;VALUE=DATE:20191120
DTEND;VALUE=DATE:20191121
DTSTAMP:20260423T073640
CREATED:20190621T135721Z
LAST-MODIFIED:20190621T135721Z
UID:2520-1574208000-1574294399@www.towcesteru3a.co.uk
SUMMARY:Garden Visits - Christmas Meal
DESCRIPTION:Wed 20th Nov Christmas Meal (TBA) plus Garden Suggestions for 2020
URL:https://www.towcesteru3a.co.uk/event/garden-visits-christmas-meal
END:VEVENT
BEGIN:VEVENT
DTSTART;TZID=Europe/London:20191106T143000
DTEND;TZID=Europe/London:20191106T170000
DTSTAMP:20260423T073640
CREATED:20190621T134734Z
LAST-MODIFIED:20190621T134734Z
UID:2506-1573050600-1573059600@www.towcesteru3a.co.uk
SUMMARY:Theatre Group
DESCRIPTION:Wed 6th November ‘Kinky Boots’ 2.30 pm
URL:https://www.towcesteru3a.co.uk/event/theatre-group-12
END:VEVENT
BEGIN:VEVENT
DTSTART;VALUE=DATE:20191106
DTEND;VALUE=DATE:20191107
DTSTAMP:20260423T073640
CREATED:20181008T133914Z
LAST-MODIFIED:20181008T133914Z
UID:2143-1572998400-1573084799@www.towcesteru3a.co.uk
SUMMARY:Theatre Group
DESCRIPTION:NEW SHOW      KINKY BOOTS \nWeds November 6th   2.30pm     £20 \nPay by date 28th March
URL:https://www.towcesteru3a.co.uk/event/theatre-group-11
LOCATION:MK theatre\, 500 Marlborough Gate\, Milton Keynes\, Buckinghamshire\, MK9 3NZ\, United Kingdom
END:VEVENT
BEGIN:VEVENT
DTSTART;TZID=Europe/London:20191105T103000
DTEND;TZID=Europe/London:20191105T120000
DTSTAMP:20260423T073640
CREATED:20190926T151655Z
LAST-MODIFIED:20190926T153201Z
UID:2610-1572949800-1572955200@www.towcesteru3a.co.uk
SUMMARY:New Members' Meeting
DESCRIPTION:These meetings are to give new members a chance to meet group coordinators and committee members as well as existing members who maybe interested in joining other groups. \nWe encourage all group coordinators or a representitive to attend but it is not always practical for them all to attend. However\, there is usuually at least one member of the committee who can help. \nTea\, coffee and biscuits are in continuous supply too. \nHope to see you there but please note whilst we start on the time shown the finish time can be variable depending on attendance and interest 
URL:https://www.towcesteru3a.co.uk/event/new-members-meeting-4
LOCATION:The Sawpits Centre\, Richmond Road\, Towcester
END:VEVENT
BEGIN:VEVENT
DTSTART;TZID=Europe/London:20191030T140000
DTEND;TZID=Europe/London:20191030T160000
DTSTAMP:20260423T073640
CREATED:20190926T142829Z
LAST-MODIFIED:20190926T142829Z
UID:2584-1572444000-1572451200@www.towcesteru3a.co.uk
SUMMARY:Monthly Meeting
DESCRIPTION:Graham Short the world famous micro-artist will talk about“The Hands of Genius“
URL:https://www.towcesteru3a.co.uk/event/monthly-meeting-11
LOCATION:Towcestrians Rugby Club\, Greens Norton Road\, Towcester\, NN12 8AW
END:VEVENT
BEGIN:VEVENT
DTSTART;TZID=Europe/London:20191023T140000
DTEND;TZID=Europe/London:20191023T153000
DTSTAMP:20260423T073640
CREATED:20191023T172140Z
LAST-MODIFIED:20191023T172140Z
UID:2645-1571839200-1571844600@www.towcesteru3a.co.uk
SUMMARY:Quiz at the Sawpits
DESCRIPTION:No team required just turn up
URL:https://www.towcesteru3a.co.uk/event/quiz-at-the-sawpits-2
LOCATION:The Sawpits Centre\, Richmond Road\, Towcester
END:VEVENT
BEGIN:VEVENT
DTSTART;TZID=Europe/London:20191016T143000
DTEND;TZID=Europe/London:20191016T170000
DTSTAMP:20260423T073640
CREATED:20190621T134620Z
LAST-MODIFIED:20190621T134620Z
UID:2504-1571236200-1571245200@www.towcesteru3a.co.uk
SUMMARY:Theatre Group
DESCRIPTION:Wed 16th Oct ‘Saturday Night Fever’ 2.30pm
URL:https://www.towcesteru3a.co.uk/event/theatre-group-7
END:VEVENT
BEGIN:VEVENT
DTSTART;TZID=Europe/London:20191009T143000
DTEND;TZID=Europe/London:20191009T170000
DTSTAMP:20260423T073640
CREATED:20190621T134509Z
LAST-MODIFIED:20190621T134509Z
UID:2502-1570631400-1570640400@www.towcesteru3a.co.uk
SUMMARY:Theatre Group
DESCRIPTION:Wed 9th Oct ‘The Exorcist’2.30 pm £17.10 pay by 29th Aug
URL:https://www.towcesteru3a.co.uk/event/theatre-group-6
END:VEVENT
BEGIN:VEVENT
DTSTART;VALUE=DATE:20191009
DTEND;VALUE=DATE:20191010
DTSTAMP:20260423T073640
CREATED:20190926T144122Z
LAST-MODIFIED:20190926T144122Z
UID:2591-1570579200-1570665599@www.towcesteru3a.co.uk
SUMMARY:Garden Visits
DESCRIPTION:Seizincote Gardens £5  \nBatsford Arboretum £6  \nCoach £12  \nTotal £23pp\nPayable August 28th Leaves 8.30 am 
URL:https://www.towcesteru3a.co.uk/event/garden-visits
END:VEVENT
BEGIN:VEVENT
DTSTART;VALUE=DATE:20191009
DTEND;VALUE=DATE:20191010
DTSTAMP:20260423T073640
CREATED:20190621T135547Z
LAST-MODIFIED:20190621T135547Z
UID:2518-1570579200-1570665599@www.towcesteru3a.co.uk
SUMMARY:Gardens Visits
DESCRIPTION:Wed 9th Oct Seizincote Gardens Batsford Arboretum £23 Pay by 28th Aug
URL:https://www.towcesteru3a.co.uk/event/gardens-visits-3
END:VEVENT
BEGIN:VEVENT
DTSTART;TZID=Europe/London:20191007T120000
DTEND;TZID=Europe/London:20191007T130000
DTSTAMP:20260423T073640
CREATED:20190926T143819Z
LAST-MODIFIED:20190926T143819Z
UID:2588-1570449600-1570453200@www.towcesteru3a.co.uk
SUMMARY:Beginners Badminton - First Session
DESCRIPTION:Beginners Badminton starts on 7th October 2019 at Towcester Sports Centre  \nInterest allowing it will run every Monday at 12 noon to 1pm after the existing badminton session. Gentle coaching will be provided\nContact Gillian at geebee8@talktailk.net for more information.
URL:https://www.towcesteru3a.co.uk/event/beginners-badminton-first-session
LOCATION:Towcester Centre for Leisure\, Springfields\, Towcester\, NN12 6UW
END:VEVENT
BEGIN:VEVENT
DTSTART;TZID=Europe/London:20190925T140000
DTEND;TZID=Europe/London:20190925T160000
DTSTAMP:20260423T073640
CREATED:20190621T131549Z
LAST-MODIFIED:20190621T131549Z
UID:2494-1569420000-1569427200@www.towcesteru3a.co.uk
SUMMARY:Monthly Meeting
DESCRIPTION:Barry Watson “The Agony and Ecstasy of a Canal Hotel Boater”  \nBarry‘s talk is themed around the country’s wonderful canals and inland waterways. He has an endless supply of anecdotes\, industry facts and historical information stemming from his career as a boat owner\, hotel boater\, canal manager and canal boat broker. He has featured on numerous television and radio broadcasts. He combines this with his musical expertise gained from fronting groups and performing solo. He involves the audience from the beginning. His talks usually end with a poem and a song.
URL:https://www.towcesteru3a.co.uk/event/monthly-meeting-8
LOCATION:Towcestrians Rugby Club\, Greens Norton Road\, Towcester\, NN12 8AW
END:VEVENT
BEGIN:VEVENT
DTSTART;VALUE=DATE:20190911
DTEND;VALUE=DATE:20190912
DTSTAMP:20260423T073640
CREATED:20190621T135442Z
LAST-MODIFIED:20190621T135442Z
UID:2516-1568160000-1568246399@www.towcesteru3a.co.uk
SUMMARY:Gardens Visits
DESCRIPTION:Wed 11th Sept Lavenham Guildhall and Ickworth Rotunda\, Bury St Edmunds NT £12 Pay by 31
URL:https://www.towcesteru3a.co.uk/event/gardens-visits-2
END:VEVENT
BEGIN:VEVENT
DTSTART;TZID=Europe/London:20190904T143000
DTEND;TZID=Europe/London:20190904T170000
DTSTAMP:20260423T073640
CREATED:20190621T132549Z
LAST-MODIFIED:20190621T134359Z
UID:2500-1567607400-1567616400@www.towcesteru3a.co.uk
SUMMARY:Theatre Trips
DESCRIPTION:Wed 4th Sept ‘The Entertainer’2.30 pm £25 pay by 25th July \n  \nFor any newer members to Towcester u3a\, the Theatre Group is easily accessible. Find the list of shows on offer\, look either below\, or in the monthly bulletin\, choose what you would like to see and then add your name to the list by either phoning\, emailing\, or speaking to me at the monthly meetings. Then either send your money to me by the pay-by date\, or tell me if you are no longer interested in the tickets. We all make our way to Milton Keynes theatre independently\, but all sit together\, usually in the circle. Parking is plentiful near to the theatre\, but buses from some villages get even closer! Quite a few people make a day of it\, either shopping or lunching before the show. I try to book shows for all tastes\, but it has to be said that musicals and ballets are by far the most popular. Part of the ethos of u3a is to try new things so is it worth trying a different genre?
URL:https://www.towcesteru3a.co.uk/event/theatre-trips
END:VEVENT
BEGIN:VEVENT
DTSTART;TZID=Europe/London:20190828T140000
DTEND;TZID=Europe/London:20190828T160000
DTSTAMP:20260423T073640
CREATED:20190604T142120Z
LAST-MODIFIED:20190604T142120Z
UID:2449-1567000800-1567008000@www.towcesteru3a.co.uk
SUMMARY:Monthly Meeting
DESCRIPTION:Today’s speaker is Jeremy Rivers-Fletcher talking about “Early Post -World War 2 Motor Racing \nFollowing the demise of motor racing during the Second World War years there were enthusiastic individuals\, at a very much grass roots level who championed the cause for a revival of the motor sport immediately following the hostilities. Jeremy is part of the Rivers-Fletcher family. His father Alec Rivers-Fletcher made it his job to tour the country giving talks and film shows to all motor clubs. This was in the days when there was no television coverage of the sport. Jeremy’s highly amusing account includes some unique coverage of the early racing stars.
URL:https://www.towcesteru3a.co.uk/event/monthly-meeting-7
LOCATION:Towcestrians Rugby Club\, Greens Norton Rd\,\, Towcester\, NN12 8AW
END:VEVENT
BEGIN:VEVENT
DTSTART;VALUE=DATE:20190822
DTEND;VALUE=DATE:20190823
DTSTAMP:20260423T073640
CREATED:20190606T115456Z
LAST-MODIFIED:20190606T115456Z
UID:2463-1566432000-1566518399@www.towcesteru3a.co.uk
SUMMARY:Highclere Castle Visit - Thursday 22 August
DESCRIPTION:There is a coach trip being organised to Highclere Castle. The ticket price is £31 and includes the coach\, entrance to the house\, gardens and exhibition. \nPlease reserve your seat by contacting Jeannie either at a monthly meeting\, facebook\, or email (jeanettewaite@btinternet.com) with your name\, email address (if not emailing) telephone number\, and an “in emergency” contact and phone number (known as ICE). \nConfirmation of your space will be emailed to you. \nPayment details including when to pay will be sent to you.
URL:https://www.towcesteru3a.co.uk/event/highclere-castle-visit-thursday-22-august
ORGANIZER;CN="Jeannie Waite":MAILTO:jeanettewaite@btinternet.com
END:VEVENT
BEGIN:VEVENT
DTSTART;VALUE=DATE:20190814
DTEND;VALUE=DATE:20190815
DTSTAMP:20260423T073640
CREATED:20190621T135341Z
LAST-MODIFIED:20190621T135341Z
UID:2513-1565740800-1565827199@www.towcesteru3a.co.uk
SUMMARY:Gardens Visits
DESCRIPTION:Wed 14th Aug Kentwell House and Gardens £23.30 Pay by 26th June
URL:https://www.towcesteru3a.co.uk/event/gardens-visits
END:VEVENT
BEGIN:VEVENT
DTSTART;TZID=Europe/London:20190731T140000
DTEND;TZID=Europe/London:20190731T160000
DTSTAMP:20260423T073640
CREATED:20190604T141635Z
LAST-MODIFIED:20190604T141635Z
UID:2447-1564581600-1564588800@www.towcesteru3a.co.uk
SUMMARY:Monthly Meeting
DESCRIPTION:This months speaker is Geoff Lambert “My Dog’s Nose Knows”. \n\n‘Medical Detection Dogs’ use the amazing power of the dog’s nose to detect human disease. They are at the forefront of the research into\nthe fight against cancer and helping people with life threatening diseases.\nThe Medical Alert Assistance Dogs support individuals with complex health conditions who have limited awareness of an impending life\nthreatening medical event. Assistance dogs are trained to detect minute changes in individual’s personal odour triggered by their\ndisease and alert them to impending medical events.\nGeoff will talk about how the organisation train and use dogs to alert people to control their health conditions and how they are used in the early detection of cancer.\nHe hopes to bring along a dog to interact with the audience but not to detect illness!
URL:https://www.towcesteru3a.co.uk/event/monthly-meeting-6
LOCATION:Towcestrians Rugby Club\, Greens Norton Rd\,\, Towcester\, NN12 8AW
END:VEVENT
BEGIN:VEVENT
DTSTART;VALUE=DATE:20190709
DTEND;VALUE=DATE:20190710
DTSTAMP:20260423T073640
CREATED:20190621T130914Z
LAST-MODIFIED:20190621T130953Z
UID:2490-1562630400-1562716799@www.towcesteru3a.co.uk
SUMMARY:Garden Visits - Boswood
DESCRIPTION:Boswood House\, Calne Wiltshire £27.25 Pay by 19th June \nIf interested in the above please see Carole at the monthly meeting or call 01327 352364
URL:https://www.towcesteru3a.co.uk/event/garden-visits-boswood
END:VEVENT
BEGIN:VEVENT
DTSTART;VALUE=DATE:20190704
DTEND;VALUE=DATE:20190705
DTSTAMP:20260423T073640
CREATED:20190621T130606Z
LAST-MODIFIED:20190621T130606Z
UID:2488-1562198400-1562284799@www.towcesteru3a.co.uk
SUMMARY:Science for all
DESCRIPTION:‘The Wildlife Trust Nature Reserve at Church Stowe’ \nSee group leader for timings etc.
URL:https://www.towcesteru3a.co.uk/event/science-for-all
END:VEVENT
END:VCALENDAR