BEGIN:VCALENDAR
VERSION:2.0
PRODID:-//Towcester u3a - ECPv6.15.20//NONSGML v1.0//EN
CALSCALE:GREGORIAN
METHOD:PUBLISH
X-WR-CALNAME:Towcester u3a
X-ORIGINAL-URL:https://www.towcesteru3a.co.uk
X-WR-CALDESC:Events for Towcester u3a
REFRESH-INTERVAL;VALUE=DURATION:PT1H
X-Robots-Tag:noindex
X-PUBLISHED-TTL:PT1H
BEGIN:VTIMEZONE
TZID:Europe/London
BEGIN:DAYLIGHT
TZOFFSETFROM:+0000
TZOFFSETTO:+0100
TZNAME:BST
DTSTART:20220327T010000
END:DAYLIGHT
BEGIN:STANDARD
TZOFFSETFROM:+0100
TZOFFSETTO:+0000
TZNAME:GMT
DTSTART:20221030T010000
END:STANDARD
BEGIN:DAYLIGHT
TZOFFSETFROM:+0000
TZOFFSETTO:+0100
TZNAME:BST
DTSTART:20230326T010000
END:DAYLIGHT
BEGIN:STANDARD
TZOFFSETFROM:+0100
TZOFFSETTO:+0000
TZNAME:GMT
DTSTART:20231029T010000
END:STANDARD
BEGIN:DAYLIGHT
TZOFFSETFROM:+0000
TZOFFSETTO:+0100
TZNAME:BST
DTSTART:20240331T010000
END:DAYLIGHT
BEGIN:STANDARD
TZOFFSETFROM:+0100
TZOFFSETTO:+0000
TZNAME:GMT
DTSTART:20241027T010000
END:STANDARD
BEGIN:DAYLIGHT
TZOFFSETFROM:+0000
TZOFFSETTO:+0100
TZNAME:BST
DTSTART:20250330T010000
END:DAYLIGHT
BEGIN:STANDARD
TZOFFSETFROM:+0100
TZOFFSETTO:+0000
TZNAME:GMT
DTSTART:20251026T010000
END:STANDARD
BEGIN:DAYLIGHT
TZOFFSETFROM:+0000
TZOFFSETTO:+0100
TZNAME:BST
DTSTART:20260329T010000
END:DAYLIGHT
BEGIN:STANDARD
TZOFFSETFROM:+0100
TZOFFSETTO:+0000
TZNAME:GMT
DTSTART:20261025T010000
END:STANDARD
END:VTIMEZONE
BEGIN:VEVENT
DTSTART;TZID=Europe/London:20250220T100000
DTEND;TZID=Europe/London:20250220T120000
DTSTAMP:20260422T201224
CREATED:20241123T191957Z
LAST-MODIFIED:20241123T191957Z
UID:6537-1740045600-1740052800@www.towcesteru3a.co.uk
SUMMARY:Coffee Morning
DESCRIPTION:
URL:https://www.towcesteru3a.co.uk/event/coffee-morning-15
LOCATION:The Watling Street Village\, 185 Watling Street\, Towcester\, NN12 6BX
END:VEVENT
BEGIN:VEVENT
DTSTART;TZID=Europe/London:20250129T140000
DTEND;TZID=Europe/London:20250129T160000
DTSTAMP:20260422T201224
CREATED:20241123T194108Z
LAST-MODIFIED:20241123T194108Z
UID:6540-1738159200-1738166400@www.towcesteru3a.co.uk
SUMMARY:Ooh Matron!
DESCRIPTION:The Carry On films stand as some of the most enduring and beloved comedies since the late ’50s. Steve Dimmer will discuss the ascent of this genre of bawdy humor\, exploring the lives of key figures and the lasting legacy these comedies have created.
URL:https://www.towcesteru3a.co.uk/event/ooh-matron
LOCATION:Towcestrians Rugby Club\, Greens Norton Road\, Towcester\, NN12 8AW
END:VEVENT
BEGIN:VEVENT
DTSTART;TZID=Europe/London:20250115T100000
DTEND;TZID=Europe/London:20250115T120000
DTSTAMP:20260422T201224
CREATED:20241123T191722Z
LAST-MODIFIED:20241123T191722Z
UID:6535-1736935200-1736942400@www.towcesteru3a.co.uk
SUMMARY:Coffee Morning
DESCRIPTION:
URL:https://www.towcesteru3a.co.uk/event/coffee-morning-14
LOCATION:The Watling Street Village\, 185 Watling Street\, Towcester\, NN12 6BX
END:VEVENT
BEGIN:VEVENT
DTSTART;TZID=Europe/London:20241217T100000
DTEND;TZID=Europe/London:20241217T120000
DTSTAMP:20260422T201224
CREATED:20241007T162412Z
LAST-MODIFIED:20241007T163922Z
UID:6494-1734429600-1734436800@www.towcesteru3a.co.uk
SUMMARY:Coffee Morning
DESCRIPTION:Come and join us for coffee and a chat. We’ll be in the “front parlour” on the left of the main entrance at the Watling Street Village (185 Watling Street).
URL:https://www.towcesteru3a.co.uk/event/coffee-morning-13
LOCATION:The Watling Street Village\, 185 Watling Street\, Towcester\, NN12 6BX
END:VEVENT
BEGIN:VEVENT
DTSTART;TZID=Europe/London:20241127T140000
DTEND;TZID=Europe/London:20241127T160000
DTSTAMP:20260422T201224
CREATED:20240208T102320Z
LAST-MODIFIED:20240208T102320Z
UID:5982-1732716000-1732723200@www.towcesteru3a.co.uk
SUMMARY:Back in Time
DESCRIPTION:Jim Elder provides us with a festive gig featuring a local 1960s band.  Coffee and mince pies provided during the interval.
URL:https://www.towcesteru3a.co.uk/event/back-in-time
LOCATION:Towcestrians Rugby Club\, Greens Norton Rd\,\, Towcester\, NN12 8AW
END:VEVENT
BEGIN:VEVENT
DTSTART;TZID=Europe/London:20241120T100000
DTEND;TZID=Europe/London:20241120T120000
DTSTAMP:20260422T201224
CREATED:20241007T162501Z
LAST-MODIFIED:20241007T163835Z
UID:6504-1732096800-1732104000@www.towcesteru3a.co.uk
SUMMARY:Coffee Morning
DESCRIPTION:Come and join us for coffee and a chat. We’ll be in the “front parlour” on the left of the main entrance at the Watling Street Village (185 Watling Street).
URL:https://www.towcesteru3a.co.uk/event/coffee-morning-12
LOCATION:The Watling Street Village\, 185 Watling Street\, Towcester\, NN12 6BX
END:VEVENT
BEGIN:VEVENT
DTSTART;TZID=Europe/London:20241119T100000
DTEND;TZID=Europe/London:20241119T120000
DTSTAMP:20260422T201224
CREATED:20240506T114554Z
LAST-MODIFIED:20240506T114554Z
UID:6190-1732010400-1732017600@www.towcesteru3a.co.uk
SUMMARY:New Members Meeting
DESCRIPTION:Come and join us.  Find out about what we do and our various group activities.
URL:https://www.towcesteru3a.co.uk/event/new-members-meeting-8
LOCATION:Sawpits Centre\, Richmond Rd\, Towcester\, Northants\, NN12 6EX\, United Kingdom
END:VEVENT
BEGIN:VEVENT
DTSTART;TZID=Europe/London:20241030T140000
DTEND;TZID=Europe/London:20241030T153000
DTSTAMP:20260422T201224
CREATED:20240208T101916Z
LAST-MODIFIED:20240208T102008Z
UID:5980-1730296800-1730302200@www.towcesteru3a.co.uk
SUMMARY:My Life as a Micro-Artist
DESCRIPTION:Graham Short explains how he creates sculptures small enough to fit in the eye of a needle.
URL:https://www.towcesteru3a.co.uk/event/my-life-as-a-micro-artist
LOCATION:Towcestrians Rugby Club\, Greens Norton Rd\,\, Towcester\, NN12 8AW
END:VEVENT
BEGIN:VEVENT
DTSTART;TZID=Europe/London:20241017T100000
DTEND;TZID=Europe/London:20241017T120000
DTSTAMP:20260422T201224
CREATED:20241007T164935Z
LAST-MODIFIED:20241007T164935Z
UID:6517-1729159200-1729166400@www.towcesteru3a.co.uk
SUMMARY:Coffee Morning
DESCRIPTION:Come and join us for coffee and a chat. We’ll be in the “front parlour” on the left of the main entrance at the Watling Street Village (185 Watling Street).
URL:https://www.towcesteru3a.co.uk/event/coffee-morning-11
LOCATION:The Watling Street Village\, 185 Watling Street\, Towcester\, NN12 6BX
END:VEVENT
BEGIN:VEVENT
DTSTART;TZID=Europe/London:20240925T140000
DTEND;TZID=Europe/London:20240925T153000
DTSTAMP:20260422T201224
CREATED:20240208T101710Z
LAST-MODIFIED:20240208T102508Z
UID:5978-1727272800-1727278200@www.towcesteru3a.co.uk
SUMMARY:Settlers of the Nene Valley
DESCRIPTION:Andy Chapman tells us about archaeological excavations around Raunds and Stanwick
URL:https://www.towcesteru3a.co.uk/event/settlers-of-the-nene-valley
LOCATION:Towcester Rugby Club\,\, Greens Norton Road\, Towcester\, TowcesN12 8AW
END:VEVENT
BEGIN:VEVENT
DTSTART;TZID=Europe/London:20240918T100000
DTEND;TZID=Europe/London:20240918T120000
DTSTAMP:20260422T201224
CREATED:20240722T122651Z
LAST-MODIFIED:20240813T082429Z
UID:6331-1726653600-1726660800@www.towcesteru3a.co.uk
SUMMARY:Coffee Morning
DESCRIPTION:Come and join us for coffee and a chat. We’ll be in the “front parlour” on the left of the main entrance at the Watling Street Village (185 Watling Street).
URL:https://www.towcesteru3a.co.uk/event/coffee-morning-10
LOCATION:The Watling Street Village\, 185 Watling Street\, Towcester\, NN12 6BX
END:VEVENT
BEGIN:VEVENT
DTSTART;TZID=Europe/London:20240828T140000
DTEND;TZID=Europe/London:20240828T153000
DTSTAMP:20260422T201224
CREATED:20240208T101435Z
LAST-MODIFIED:20240208T102410Z
UID:5975-1724853600-1724859000@www.towcesteru3a.co.uk
SUMMARY:The Life of an 18th Century Northamptonshire Woman
DESCRIPTION:Wendy Raybould talks about the impact of enclosures\, turnpikes\, and textiles.
URL:https://www.towcesteru3a.co.uk/event/the-life-of-an-18th-century-northamptonshire-woman
LOCATION:Towcester Rugby Club\,\, Greens Norton Road\, Towcester\, TowcesN12 8AW
END:VEVENT
BEGIN:VEVENT
DTSTART;TZID=Europe/London:20240812T100000
DTEND;TZID=Europe/London:20240812T120000
DTSTAMP:20260422T201224
CREATED:20240506T114116Z
LAST-MODIFIED:20240723T160851Z
UID:6187-1723456800-1723464000@www.towcesteru3a.co.uk
SUMMARY:Coffee Morning
DESCRIPTION:Come and join us for coffee and a chat.
URL:https://www.towcesteru3a.co.uk/event/coffee-morning-9
LOCATION:Costa Coffee\, 120 Watling Street\, Towcester\, NN12 8DB
END:VEVENT
BEGIN:VEVENT
DTSTART;TZID=Europe/London:20240731T140000
DTEND;TZID=Europe/London:20240731T153000
DTSTAMP:20260422T201224
CREATED:20231007T120528Z
LAST-MODIFIED:20231007T120528Z
UID:5896-1722434400-1722439800@www.towcesteru3a.co.uk
SUMMARY:All I Did Was Go For A Walk
DESCRIPTION:Dave Askew is well known to ramblers throughout Northamptonshire.  He talks about the development of a county-wide exploration from one short stroll!
URL:https://www.towcesteru3a.co.uk/event/all-i-did-was-go-for-a-walk
LOCATION:Towcestrians Rugby Club\, Greens Norton Rd\,\, Towcester\, NN12 8AW
END:VEVENT
BEGIN:VEVENT
DTSTART;TZID=Europe/London:20240718T100000
DTEND;TZID=Europe/London:20240718T120000
DTSTAMP:20260422T201224
CREATED:20240506T114019Z
LAST-MODIFIED:20240506T114019Z
UID:6184-1721296800-1721304000@www.towcesteru3a.co.uk
SUMMARY:Coffee Morning
DESCRIPTION:Come and join us for coffee and a chat.
URL:https://www.towcesteru3a.co.uk/event/coffee-morning-8
LOCATION:Costa Coffee\, 120 Watling Street\, Towcester\, NN12 8DB
END:VEVENT
BEGIN:VEVENT
DTSTART;TZID=Europe/London:20240626T140000
DTEND;TZID=Europe/London:20240626T153000
DTSTAMP:20260422T201224
CREATED:20230808T112603Z
LAST-MODIFIED:20230808T112603Z
UID:5776-1719410400-1719415800@www.towcesteru3a.co.uk
SUMMARY:My Extra Life
DESCRIPTION:Mike Newbold tells us what it’s like as a film and TV extra.
URL:https://www.towcesteru3a.co.uk/event/my-extra-life
LOCATION:Towcestrians Rugby Club\, Greens Norton Rd\,\, Towcester\, NN12 8AW
END:VEVENT
BEGIN:VEVENT
DTSTART;TZID=Europe/London:20240619T100000
DTEND;TZID=Europe/London:20240619T120000
DTSTAMP:20260422T201224
CREATED:20240506T113728Z
LAST-MODIFIED:20240506T113808Z
UID:6182-1718791200-1718798400@www.towcesteru3a.co.uk
SUMMARY:Coffee Morning
DESCRIPTION:Come and join us for coffee and a chat.
URL:https://www.towcesteru3a.co.uk/event/coffee-morning-7
LOCATION:Costa Coffee\, 120 Watling Street\, Towcester\, NN12 8DB
END:VEVENT
BEGIN:VEVENT
DTSTART;TZID=Europe/London:20240529T141500
DTEND;TZID=Europe/London:20240529T154500
DTSTAMP:20260422T201224
CREATED:20230808T112428Z
LAST-MODIFIED:20240417T140044Z
UID:5773-1716992100-1716997500@www.towcesteru3a.co.uk
SUMMARY:The Devil's Bagpipe.
DESCRIPTION:An intriguing look at baroque musical instruments\, and learning to make them\, with Tony Millyard.
URL:https://www.towcesteru3a.co.uk/event/the-devils-bagpipe
LOCATION:Towcestrians Rugby Club\, Greens Norton Rd\,\, Towcester\, NN12 8AW
END:VEVENT
BEGIN:VEVENT
DTSTART;TZID=Europe/London:20240529T140000
DTEND;TZID=Europe/London:20240529T141500
DTSTAMP:20260422T201224
CREATED:20240417T140209Z
LAST-MODIFIED:20240417T140209Z
UID:6109-1716991200-1716992100@www.towcesteru3a.co.uk
SUMMARY:AGM
DESCRIPTION:
URL:https://www.towcesteru3a.co.uk/event/agm-2
END:VEVENT
BEGIN:VEVENT
DTSTART;TZID=Europe/London:20240515T100000
DTEND;TZID=Europe/London:20240515T120000
DTSTAMP:20260422T201224
CREATED:20240506T113138Z
LAST-MODIFIED:20240506T113138Z
UID:6180-1715767200-1715774400@www.towcesteru3a.co.uk
SUMMARY:Coffee Morning
DESCRIPTION:Come and join us for coffee and a chat.
URL:https://www.towcesteru3a.co.uk/event/coffee-morning-6
LOCATION:Costa Coffee\, 120 Watling Street\, Towcester\, NN12 8DB
END:VEVENT
BEGIN:VEVENT
DTSTART;TZID=Europe/London:20240424T140000
DTEND;TZID=Europe/London:20240424T153000
DTSTAMP:20260422T201224
CREATED:20230808T112234Z
LAST-MODIFIED:20230808T112234Z
UID:5771-1713967200-1713972600@www.towcesteru3a.co.uk
SUMMARY:The early days of Genesis.
DESCRIPTION:Richard Macphail gives us the real story of early days with the rock legends who were Genesis – one of the bands of our youth.
URL:https://www.towcesteru3a.co.uk/event/the-early-days-of-genesis
LOCATION:Towcestrians Rugby Club\, Greens Norton Rd\,\, Towcester\, NN12 8AW
END:VEVENT
BEGIN:VEVENT
DTSTART;TZID=Europe/London:20240327T140000
DTEND;TZID=Europe/London:20240327T153000
DTSTAMP:20260422T201224
CREATED:20230808T112014Z
LAST-MODIFIED:20230808T112014Z
UID:5768-1711548000-1711553400@www.towcesteru3a.co.uk
SUMMARY:Ghost Detective
DESCRIPTION:By Adrian Perkins. Investigator for more than 30 years of haunted locations.  Eyewitness accounts and true stories galore!
URL:https://www.towcesteru3a.co.uk/event/ghost-detective
LOCATION:Towcestrians Rugby Club\, Greens Norton Rd\,\, Towcester\, NN12 8AW
END:VEVENT
BEGIN:VEVENT
DTSTART;TZID=Europe/London:20240322T123000
DTEND;TZID=Europe/London:20240322T143000
DTSTAMP:20260422T201224
CREATED:20240205T165754Z
LAST-MODIFIED:20240305T152430Z
UID:5959-1711110600-1711117800@www.towcesteru3a.co.uk
SUMMARY:Group Coordinators Lunch
DESCRIPTION:Any Group Coordinator who would like to attend\, please contact Jill Stewart (contact details on the Committee Contacts page). \nThis is also an opportunity to discuss any problems you may be having with Simple Membership.
URL:https://www.towcesteru3a.co.uk/event/group-coordinators-lunch
LOCATION:Peggottys Restaurant\, 1 Watling Street East\, Foster's Booth\, Towcester\, NN12 8LB
END:VEVENT
BEGIN:VEVENT
DTSTART;TZID=Europe/London:20240320T100000
DTEND;TZID=Europe/London:20240320T120000
DTSTAMP:20260422T201224
CREATED:20240206T171516Z
LAST-MODIFIED:20240305T151809Z
UID:5972-1710928800-1710936000@www.towcesteru3a.co.uk
SUMMARY:Coffee Morning
DESCRIPTION:Come and join us for a cup of coffee and a chat. \nThis is also an opportunity to ask questions about Simple Membership.
URL:https://www.towcesteru3a.co.uk/event/coffee-morning-5
LOCATION:Costa Coffee\, 120 Watling Street\, Towcester\, NN12 8DB
END:VEVENT
BEGIN:VEVENT
DTSTART;TZID=Europe/London:20240308T100000
DTEND;TZID=Europe/London:20240308T120000
DTSTAMP:20260422T201224
CREATED:20240205T164942Z
LAST-MODIFIED:20240205T165045Z
UID:5957-1709892000-1709899200@www.towcesteru3a.co.uk
SUMMARY:New Members Meeting
DESCRIPTION:
URL:https://www.towcesteru3a.co.uk/event/new-members-meeting-7
LOCATION:Sawpits Centre\, Richmond Rd\, Towcester\, Northants\, NN12 6EX\, United Kingdom
END:VEVENT
BEGIN:VEVENT
DTSTART;TZID=Europe/London:20240228T140000
DTEND;TZID=Europe/London:20240228T153000
DTSTAMP:20260422T201224
CREATED:20230808T105805Z
LAST-MODIFIED:20230808T105805Z
UID:5764-1709128800-1709134200@www.towcesteru3a.co.uk
SUMMARY:The History of British Piers.
DESCRIPTION:Who doesn’t love the seaside?  And do you remember the spray-filled wind taking your kiss-me-quick hat from your head as you stood at the end of the pier? So why were those piers built where they were? And by whom? \nJanine Kilroe will answer some of these questions.
URL:https://www.towcesteru3a.co.uk/event/the-history-of-british-piers
LOCATION:Towcestrians Rugby Club\, Greens Norton Rd\,\, Towcester\, NN12 8AW
END:VEVENT
BEGIN:VEVENT
DTSTART;TZID=Europe/London:20240131T140000
DTEND;TZID=Europe/London:20240131T153000
DTSTAMP:20260422T201224
CREATED:20230808T105220Z
LAST-MODIFIED:20231123T164214Z
UID:5761-1706709600-1706715000@www.towcesteru3a.co.uk
SUMMARY:The Great American Songbook
DESCRIPTION:Melody Flyte invites us to consider the stories behind and listen to some of the best-known songs of the 20th Century. \nThe development of the Great American Songbook changed popular song and musical theatre forever.  The songs of Cole Porter\, Irving Berlin\, Dorothy Fields and others will be covered\, along with Tin Pan Alley\, the influences of jazz\, blues\, and ragtime.
URL:https://www.towcesteru3a.co.uk/event/the-great-american-songbook
LOCATION:Towcestrians Rugby Club\, Greens Norton Rd\,\, Towcester\, NN12 8AW
END:VEVENT
BEGIN:VEVENT
DTSTART;TZID=Europe/London:20231129T140000
DTEND;TZID=Europe/London:20231129T153000
DTSTAMP:20260422T201224
CREATED:20230808T103856Z
LAST-MODIFIED:20230808T105346Z
UID:5754-1701266400-1701271800@www.towcesteru3a.co.uk
SUMMARY:Inventing Aquafresh
DESCRIPTION:From drawing board to shop floor and everything in between. \nAnne Webb talks to us about toothpaste – how\, why\, what?
URL:https://www.towcesteru3a.co.uk/event/inventing-aquafresh
LOCATION:Towcestrians Rugby Club\, Greens Norton Rd\,\, Towcester\, NN12 8AW
END:VEVENT
BEGIN:VEVENT
DTSTART;TZID=Europe/London:20231116T100000
DTEND;TZID=Europe/London:20231116T120000
DTSTAMP:20260422T201224
CREATED:20230925T100021Z
LAST-MODIFIED:20230925T100021Z
UID:5879-1700128800-1700136000@www.towcesteru3a.co.uk
SUMMARY:Coffee Morning
DESCRIPTION:Come and have a cup of tea or coffee and a chat.
URL:https://www.towcesteru3a.co.uk/event/coffee-morning-4
LOCATION:Saracen’s Head\, Watling Street\, Towcester
END:VEVENT
BEGIN:VEVENT
DTSTART;TZID=Europe/London:20231025T140000
DTEND;TZID=Europe/London:20231025T153000
DTSTAMP:20260422T201224
CREATED:20230808T103512Z
LAST-MODIFIED:20230808T103512Z
UID:5751-1698242400-1698247800@www.towcesteru3a.co.uk
SUMMARY:The Gunpowder Plot and all its local connections
DESCRIPTION:Peter Stratton will tell us about little known details of conspiracy and mayhem with Guy Fawkes and his co-schemers.
URL:https://www.towcesteru3a.co.uk/event/the-gunpowder-plot-and-all-its-local-connections
LOCATION:Towcestrians Rugby Club\, Greens Norton Rd\,\, Towcester\, NN12 8AW
END:VEVENT
END:VCALENDAR