BEGIN:VCALENDAR
VERSION:2.0
PRODID:-//Towcester u3a - ECPv6.15.20//NONSGML v1.0//EN
CALSCALE:GREGORIAN
METHOD:PUBLISH
X-WR-CALNAME:Towcester u3a
X-ORIGINAL-URL:https://www.towcesteru3a.co.uk
X-WR-CALDESC:Events for Towcester u3a
REFRESH-INTERVAL;VALUE=DURATION:PT1H
X-Robots-Tag:noindex
X-PUBLISHED-TTL:PT1H
BEGIN:VTIMEZONE
TZID:Europe/London
BEGIN:DAYLIGHT
TZOFFSETFROM:+0000
TZOFFSETTO:+0100
TZNAME:BST
DTSTART:20180325T010000
END:DAYLIGHT
BEGIN:STANDARD
TZOFFSETFROM:+0100
TZOFFSETTO:+0000
TZNAME:GMT
DTSTART:20181028T010000
END:STANDARD
BEGIN:DAYLIGHT
TZOFFSETFROM:+0000
TZOFFSETTO:+0100
TZNAME:BST
DTSTART:20190331T010000
END:DAYLIGHT
BEGIN:STANDARD
TZOFFSETFROM:+0100
TZOFFSETTO:+0000
TZNAME:GMT
DTSTART:20191027T010000
END:STANDARD
BEGIN:DAYLIGHT
TZOFFSETFROM:+0000
TZOFFSETTO:+0100
TZNAME:BST
DTSTART:20200329T010000
END:DAYLIGHT
BEGIN:STANDARD
TZOFFSETFROM:+0100
TZOFFSETTO:+0000
TZNAME:GMT
DTSTART:20201025T010000
END:STANDARD
BEGIN:DAYLIGHT
TZOFFSETFROM:+0000
TZOFFSETTO:+0100
TZNAME:BST
DTSTART:20210328T010000
END:DAYLIGHT
BEGIN:STANDARD
TZOFFSETFROM:+0100
TZOFFSETTO:+0000
TZNAME:GMT
DTSTART:20211031T010000
END:STANDARD
BEGIN:DAYLIGHT
TZOFFSETFROM:+0000
TZOFFSETTO:+0100
TZNAME:BST
DTSTART:20220327T010000
END:DAYLIGHT
BEGIN:STANDARD
TZOFFSETFROM:+0100
TZOFFSETTO:+0000
TZNAME:GMT
DTSTART:20221030T010000
END:STANDARD
BEGIN:DAYLIGHT
TZOFFSETFROM:+0000
TZOFFSETTO:+0100
TZNAME:BST
DTSTART:20230326T010000
END:DAYLIGHT
BEGIN:STANDARD
TZOFFSETFROM:+0100
TZOFFSETTO:+0000
TZNAME:GMT
DTSTART:20231029T010000
END:STANDARD
END:VTIMEZONE
BEGIN:VEVENT
DTSTART;TZID=Europe/London:20220629T140000
DTEND;TZID=Europe/London:20220629T153000
DTSTAMP:20260423T043209
CREATED:20220606T065656Z
LAST-MODIFIED:20220606T065656Z
UID:4702-1656511200-1656516600@www.towcesteru3a.co.uk
SUMMARY:Fool's Gold
DESCRIPTION:Carol and Steve Robson are acoustic musicians who will present a show entitled “Bang Up to the Elephant”.  It is based on a Victorian Expression meaning “Spot On”.  The show follows a Victorian theme with Murders\, Doctors\, and High adventure. \nTheir shows are a little bit different.  Not just a musical recital\, but with a theme\, and songs which fit the theme.  The show usually includes well known and original music
URL:https://www.towcesteru3a.co.uk/event/fools-gold
LOCATION:Towcestrians Rugby Club\, Greens Norton Rd\,\, Towcester\, NN12 8AW
END:VEVENT
BEGIN:VEVENT
DTSTART;TZID=Europe/London:20220525T140000
DTEND;TZID=Europe/London:20220525T153000
DTSTAMP:20260423T043209
CREATED:20220406T160126Z
LAST-MODIFIED:20220524T115359Z
UID:4543-1653487200-1653492600@www.towcesteru3a.co.uk
SUMMARY:AGM
DESCRIPTION:The AGM will be followed by a talk entitled ‘Death in the Garden’ by Michael Brown.
URL:https://www.towcesteru3a.co.uk/event/agm
LOCATION:Towcestrians Rugby Club\, Greens Norton Rd\,\, Towcester\, NN12 8AW
END:VEVENT
BEGIN:VEVENT
DTSTART;TZID=Europe/London:20201125T143000
DTEND;TZID=Europe/London:20201125T170000
DTSTAMP:20260423T043209
CREATED:20200112T135149Z
LAST-MODIFIED:20201106T135427Z
UID:2717-1606314600-1606323600@www.towcesteru3a.co.uk
SUMMARY:Theatre Group THE COMMITMENTS
DESCRIPTION:Weds 25th November     2.30pm       £30 \nMusical by Roddy Doyle featuring soul classics such as River Deep\, Mountain High and Heard it on the Grapevine \nPay by date tba \nThese shows are all available to reserve your tickets now\, Money should be sent to Marion Wilson with an sae by the pay by date. Cheques made payable to Marion Wilson please. \nPlease note the new address \n41a High Street\, Roade\, Northampton\, NN7 2NW \nPhone 01604 864254
URL:https://www.towcesteru3a.co.uk/event/theatre-group-the-commitments
CATEGORIES:Events
END:VEVENT
BEGIN:VEVENT
DTSTART;TZID=Europe/London:20201118T143000
DTEND;TZID=Europe/London:20201118T170000
DTSTAMP:20260423T043209
CREATED:20200112T135009Z
LAST-MODIFIED:20201107T114801Z
UID:2715-1605709800-1605718800@www.towcesteru3a.co.uk
SUMMARY:Theatre Group MY BEST FRIEND’S WEDDING
DESCRIPTION:Weds November 18th   2.30pm     £24 \nPay by date  tba \nThese shows are all available to reserve your tickets now\, Money should be sent to Marion Wilson with an sae by the pay by date. Cheques made payable to Marion Wilson please. \nPlease note the new address \n41a High Street\, Roade\, Northampton\, NN7 2NW \nPhone 01604 864254 \n 
URL:https://www.towcesteru3a.co.uk/event/theatre-group-my-best-friends-wedding
CATEGORIES:Events
END:VEVENT
BEGIN:VEVENT
DTSTART;TZID=Europe/London:20200902T143000
DTEND;TZID=Europe/London:20200902T170000
DTSTAMP:20260423T043209
CREATED:20200112T134830Z
LAST-MODIFIED:20200112T134830Z
UID:2713-1599057000-1599066000@www.towcesteru3a.co.uk
SUMMARY:Theatre Group SUNNY AFTERNOON
DESCRIPTION:Weds 2nd September    2.30pm     £30 \nPay by tba \nThese shows are all available to reserve your tickets now\, Money should be sent to Marion Wilson with an sae by the pay by date. Cheques made payable to Marion Wilson please. \nPlease note the new address \n41a High Street\, Roade\, Northampton\, NN7 2NW \nPhone 01604 864254
URL:https://www.towcesteru3a.co.uk/event/theatre-group-sunny-afternoon
END:VEVENT
BEGIN:VEVENT
DTSTART;TZID=Europe/London:20200826T140000
DTEND;TZID=Europe/London:20200826T170000
DTSTAMP:20260423T043209
CREATED:20200218T175211Z
LAST-MODIFIED:20200218T175211Z
UID:2761-1598450400-1598461200@www.towcesteru3a.co.uk
SUMMARY:Monthly Meeting
DESCRIPTION:Mike Brook “Musings from the Amateur Stage” \nMike is a retired Chief Librarian who enjoys playing sport and taking part in amateur dramatics. His talk includes anecdotes about some of the plays and shows he has been involved with during his 30 plus years with drama groups in York and West Berkshire. \nHe will also give 2 or 3 actual performances of short comic pieces originally written and performed by heroes of comedy such as Alan Bennett and Peter Cook.
URL:https://www.towcesteru3a.co.uk/event/monthly-meeting-19
LOCATION:Towcester Rugby Club\,\, Greens Norton Road\, Towcester\, TowcesN12 8AW
END:VEVENT
BEGIN:VEVENT
DTSTART;TZID=Europe/London:20200729T140000
DTEND;TZID=Europe/London:20200729T170000
DTSTAMP:20260423T043209
CREATED:20200218T174953Z
LAST-MODIFIED:20200218T174953Z
UID:2759-1596031200-1596042000@www.towcesteru3a.co.uk
SUMMARY:Monthly Meeting
DESCRIPTION:Colin Bower “My Farcical Life as a Cruise Ship Entertainments Officer” \nColin has been associated with the entertainment world most of his life. He has worked as a TV announcer\, newsreader and interviewer for Anglian Television. \nHe has also appeared in Coronation Street\, Emmerdale\, Brookside and many other television shows as well as appearing on stage. \nAnother of his talents is being a guest speaker on cruise ships and at one time was Passenger Liaison Officer on the British cruise ship Nevasa. Today his job would be called Cruise Director. Colin’s talk today will be mainly about life on the cruise ship and the passengers he encountered in this role
URL:https://www.towcesteru3a.co.uk/event/monthly-meeting-18
LOCATION:Towcestrians Rugby Club\, Greens Norton Rd\,\, Towcester\, NN12 8AW
END:VEVENT
BEGIN:VEVENT
DTSTART;TZID=Europe/London:20200701T143000
DTEND;TZID=Europe/London:20200701T170000
DTSTAMP:20260423T043209
CREATED:20200112T134351Z
LAST-MODIFIED:20200112T134510Z
UID:2711-1593613800-1593622800@www.towcesteru3a.co.uk
SUMMARY:Theatr Group FOOTLOOSE
DESCRIPTION:With Gareth Gates as Willard \nWeds July 1st   2.30pm    £15 \nPay by date   tba \nThese shows are all available to reserve your tickets now\, Money should be sent to Marion Wilson with an sae by the pay by date. Cheques made payable to Marion Wilson please. \nPlease note the new address \n41a High Street\, Roade\, Northampton\, NN7 2NW \nPhone 01604 864254
URL:https://www.towcesteru3a.co.uk/event/theatr-group-footloose
END:VEVENT
BEGIN:VEVENT
DTSTART;TZID=Europe/London:20200610T143000
DTEND;TZID=Europe/London:20200610T170000
DTSTAMP:20260423T043209
CREATED:20200112T134206Z
LAST-MODIFIED:20200112T135342Z
UID:2709-1591799400-1591808400@www.towcesteru3a.co.uk
SUMMARY:Theatre Group THE BIRTHDAY PARTY
DESCRIPTION:  \nA Harold Pinter play. \nWeds 10th June  2.30pm   £18 \nPay by date    tba \nThese shows are all available to reserve your tickets now\, Money should be sent to Marion Wilson with an sae by the pay by date. Cheques made payable to Marion Wilson please. \nPlease note the new address \n41a High Street\, Roade\, Northampton\, NN7 2NW \nPhone 01604 864254
URL:https://www.towcesteru3a.co.uk/event/theatre-group-the-birthday-party
END:VEVENT
BEGIN:VEVENT
DTSTART;TZID=Europe/London:20200527T140000
DTEND;TZID=Europe/London:20200527T160000
DTSTAMP:20260423T043209
CREATED:20191023T171641Z
LAST-MODIFIED:20200218T175357Z
UID:2641-1590588000-1590595200@www.towcesteru3a.co.uk
SUMMARY:Monthly Meeting
DESCRIPTION:AGM 2020 Members are reminded our 2020 Annual General Meeting will be held on Wednesday\, 27th May.This will be the next opportunity for members to elect who they would like to represent them on the committee.A nomination form for members to nominate their chosen representatives\, together with a draft agenda for the meeting\, will be issued in late March. \nRichard Macphail “My Book of Genesis” School friend\, aide-de–camp and tour manager\, Richard Macphail was for almost 5 years\, the glue that held Genesis together and has now written his affectionate memoir entitled “My Book of Genesis”. Richard will tell us his unique story of the group’s early years. He was the singer in Anon the Charterhouse School group that included Mike Rutherford and Anthony Phillips which would later merge with “The Garden Wall” to become Genesis. Richard then became their one man road crew shepherding them from gig to gig\, providing a cottage where they could live and offering them support when it was most needed. He was in the thick of it as they went on to fulfil their ambitions. \nHe has an ongoing friendship with them\, a friendship that has endured for over 50 years
URL:https://www.towcesteru3a.co.uk/event/monthly-meeting-17
LOCATION:Towcestrians Rugby Club\, Greens Norton Rd\,\, Towcester\, NN12 8AW
END:VEVENT
BEGIN:VEVENT
DTSTART;TZID=Europe/London:20200430T143000
DTEND;TZID=Europe/London:20200430T170000
DTSTAMP:20260423T043209
CREATED:20200112T133856Z
LAST-MODIFIED:20200112T133856Z
UID:2705-1588257000-1588266000@www.towcesteru3a.co.uk
SUMMARY:Theatre Group CINDERELLA (Northern Ballet)
DESCRIPTION:Thursday April 30th      2.30pm     £20 \nThese shows are all available to reserve your tickets now\, Money should be sent to Marion Wilson with an sae by the pay by date. Cheques made payable to Marion Wilson please. \nPlease note the new address \n41a High Street\, Roade\, Northampton\, NN7 2NW \nPhone 01604 864254 \nPay by date January 31st
URL:https://www.towcesteru3a.co.uk/event/theatre-group-cinderella-northern-ballet
END:VEVENT
BEGIN:VEVENT
DTSTART;TZID=Europe/London:20200429T140000
DTEND;TZID=Europe/London:20200429T160000
DTSTAMP:20260423T043209
CREATED:20191023T171331Z
LAST-MODIFIED:20200303T133505Z
UID:2639-1588168800-1588176000@www.towcesteru3a.co.uk
SUMMARY:Monthly Meeting
DESCRIPTION:Gary Shaeffer “Scott’s Voyage to Antarctica and the work of Herbert Ponting” \nThis is an illustrated talk by Gary featuring the work of Herbert Ponting. Herbert took up photography as a hobby with no training and quickly established himself as an international competition winner. He was also a travel and war correspondent. He was selected from 100 applicants to accompany Scott’s second and last tragic expedition to the Antarctic. It was always known that Herbert was not going to be one of those to reach the pole so he taught those that did photography. When the men were found after their ill fated adventure so were their iconic photographs.
URL:https://www.towcesteru3a.co.uk/event/monthly-meeting-16
LOCATION:Towcester Rugby Club\,\, Greens Norton Road\, Towcester\, TowcesN12 8AW
END:VEVENT
BEGIN:VEVENT
DTSTART;TZID=Europe/London:20200415T143000
DTEND;TZID=Europe/London:20200415T170000
DTSTAMP:20260423T043209
CREATED:20200112T134048Z
LAST-MODIFIED:20200112T134048Z
UID:2707-1586961000-1586970000@www.towcesteru3a.co.uk
SUMMARY:Theatre Group DIAL M FOR MURDER
DESCRIPTION:Starring Tom Chambers and Samantha Womack \nWeds 15th April    2.30pm     £24.50 \nPay by date  10/02/20 \nThese shows are all available to reserve your tickets now\, Money should be sent to Marion Wilson with an sae by the pay by date. Cheques made payable to Marion Wilson please. \nPlease note the new address \n41a High Street\, Roade\, Northampton\, NN7 2NW \nPhone 01604 864254
URL:https://www.towcesteru3a.co.uk/event/theatre-group-dial-m-for-murder
END:VEVENT
BEGIN:VEVENT
DTSTART;TZID=Europe/London:20200325T143000
DTEND;TZID=Europe/London:20200325T170000
DTSTAMP:20260423T043209
CREATED:20190926T145858Z
LAST-MODIFIED:20190926T145858Z
UID:2604-1585146600-1585155600@www.towcesteru3a.co.uk
SUMMARY:Theatre Visits
DESCRIPTION:We Will Rock You (reserve list only)\n£29.50 Pay by November 19th.
URL:https://www.towcesteru3a.co.uk/event/theatre-visits-3
END:VEVENT
BEGIN:VEVENT
DTSTART;TZID=Europe/London:20200325T140000
DTEND;TZID=Europe/London:20200325T160000
DTSTAMP:20260423T043209
CREATED:20191023T171131Z
LAST-MODIFIED:20191023T171131Z
UID:2637-1585144800-1585152000@www.towcesteru3a.co.uk
SUMMARY:Monthly Meeting
DESCRIPTION:Kevin Varty “Radio Days” \nKevin is a popular and entertaining speaker who always impresses his audiences with his well researched talks. On this visit to Towcester he will be taking a nostalgic look at radio programmes from Childrens’ Hour to Mrs Dale’s Diary not forgetting The Goon Show and Family Favourites. Kevin will transport us back to the days of the 50’s and 60’s via these popular radio programmes. We will be invited to participate as he plays theme tunes to many old favourites. He will also share some amusing anecdotes about the programmes.
URL:https://www.towcesteru3a.co.uk/event/monthly-meeting-15
LOCATION:Towcester Rugby Club\,\, Greens Norton Road\, Towcester\, TowcesN12 8AW
END:VEVENT
BEGIN:VEVENT
DTSTART;TZID=Europe/London:20200304T143000
DTEND;TZID=Europe/London:20200304T170000
DTSTAMP:20260423T043209
CREATED:20190926T145716Z
LAST-MODIFIED:20190926T145716Z
UID:2602-1583332200-1583341200@www.towcesteru3a.co.uk
SUMMARY:Theatre Visits
DESCRIPTION:The King and I (reserve list only)\n. £30 Pay by November 18th
URL:https://www.towcesteru3a.co.uk/event/theatre-visits-2
END:VEVENT
BEGIN:VEVENT
DTSTART;TZID=Europe/London:20200303T103000
DTEND;TZID=Europe/London:20200303T120000
DTSTAMP:20260423T043209
CREATED:20191106T143840Z
LAST-MODIFIED:20191106T143840Z
UID:2662-1583231400-1583236800@www.towcesteru3a.co.uk
SUMMARY:New Members Meeting
DESCRIPTION:Our next new members meeting will be at the Sawpits Centre in Richmond Road\, as usual. \nIf you are and exisiting member and just want to meet some of the coordinators of other groups then please feel free to attend even if you are not a new member. \nIt starts at 10:30 and is usually over by 12 noon depending on interest\, so be early we maybe gone if you turnup after 12. 🙂
URL:https://www.towcesteru3a.co.uk/event/new-members-meeting-5
LOCATION:The Sawpits Centre\, Richmond Road\, Towcester
END:VEVENT
BEGIN:VEVENT
DTSTART;TZID=Europe/London:20200226T140000
DTEND;TZID=Europe/London:20200226T160000
DTSTAMP:20260423T043209
CREATED:20191023T170905Z
LAST-MODIFIED:20191023T170905Z
UID:2635-1582725600-1582732800@www.towcesteru3a.co.uk
SUMMARY:Monthly meeting
DESCRIPTION:Saffron Summerfield “Milton Keynes to Mississippi” \nSaffron’s presentation describes her life as a working musician. This is a lively\, entertaining show featuring different styles of guitar music from 15th Century to Spanish and Mississippi Blues along with her own songs and tunes on 2 guitars and Cuatro. There will be anecdotes and stories from a career which started in North Bucks folk clubs to performing live on John Peel’s BBC Radio Shows\, recording at Abbey Road Studios\, writing songs for BBC Radio 4’s ‘Start the Week’\, two Channel 4 films and playing guitar with Blues Musicians in Mississippi cotton fields.29th April Gary Shaeffer “Scott’s Voyage to Antarctica and the work of Herbert Ponting” This is an illustrated talk by Gary featuring the work of Herbert Ponting. Herbert took up photography as a hobby with no training and quickly established himself as an international competition winner. He was also a travel and war correspondent. He was selected from 100 applicants to accompany Scott’s second and last tragic expedition to the Antarctic. It was always known that Herbert was not going to be one of those to reach the pole so he taught those that did photography. When the men were found after their ill fated adventure so were their iconic photographs. 25th March Kevin Varty “R
URL:https://www.towcesteru3a.co.uk/event/monthly-meeting-14
LOCATION:Towcester Rugby Club\,\, Greens Norton Road\, Towcester\, TowcesN12 8AW
END:VEVENT
BEGIN:VEVENT
DTSTART;TZID=Europe/London:20200220T140000
DTEND;TZID=Europe/London:20200220T153000
DTSTAMP:20260423T043209
CREATED:20191023T172739Z
LAST-MODIFIED:20191023T172739Z
UID:2651-1582207200-1582212600@www.towcesteru3a.co.uk
SUMMARY:Quiz at the Sawpits
DESCRIPTION:No team required just turn up
URL:https://www.towcesteru3a.co.uk/event/quiz-at-the-sawpits-4
LOCATION:The Sawpits Centre\, Richmond Road\, Towcester
END:VEVENT
BEGIN:VEVENT
DTSTART;TZID=Europe/London:20200130T143000
DTEND;TZID=Europe/London:20200130T170000
DTSTAMP:20260423T043209
CREATED:20190926T145546Z
LAST-MODIFIED:20190926T145546Z
UID:2600-1580394600-1580403600@www.towcesteru3a.co.uk
SUMMARY:Theatre Visits
DESCRIPTION:The Red Shoes (Matthew Bourne)\n£30.50 Pay by 11th November.
URL:https://www.towcesteru3a.co.uk/event/theatre-visits
END:VEVENT
BEGIN:VEVENT
DTSTART;TZID=Europe/London:20200129T140000
DTEND;TZID=Europe/London:20200129T160000
DTSTAMP:20260423T043209
CREATED:20191023T170601Z
LAST-MODIFIED:20191023T170601Z
UID:2633-1580306400-1580313600@www.towcesteru3a.co.uk
SUMMARY:Monthly Meeting
DESCRIPTION:Our speaker is Helen Frost “The Women’s Land Army in Northamptonshire during the First World War”.  \nHelen Frost is a lecturer in Literacy and Adult Support. Her passion\, however\, outside of work is the legacy of the Great War. For several years she has researched in depth the often forgotten\, largely overlooked and for the most part unknown Women’s Land Army. She has also focussed on the role and contribution that her home county of Northamptonshire made with its own Women’s Land Army. The story is inspirational and can encourage people generally to see what can be achieved and what is possible even if it is something that has not been attempted or done before. Helen is also a member of the Western Front Association\, a charitable organisation which perpetuates the memory\, courage and companionship of those who took part in the Great War in whatever capacity.
URL:https://www.towcesteru3a.co.uk/event/monthly-meeting-13
LOCATION:Towcestrians Rugby Club\, Greens Norton Road\, Towcester\, NN12 8AW
END:VEVENT
BEGIN:VEVENT
DTSTART;TZID=Europe/London:20200116T140000
DTEND;TZID=Europe/London:20200116T153000
DTSTAMP:20260423T043209
CREATED:20191023T172546Z
LAST-MODIFIED:20191023T172547Z
UID:2649-1579183200-1579188600@www.towcesteru3a.co.uk
SUMMARY:Quiz at the Sawpits
DESCRIPTION:No team required just turn up
URL:https://www.towcesteru3a.co.uk/event/quiz-at-the-sawpits-3
LOCATION:The Sawpits Centre\, Richmond Road\, Towcester
END:VEVENT
BEGIN:VEVENT
DTSTART;VALUE=DATE:20200108
DTEND;VALUE=DATE:20200109
DTSTAMP:20260423T043209
CREATED:20190926T145019Z
LAST-MODIFIED:20190926T145019Z
UID:2596-1578441600-1578527999@www.towcesteru3a.co.uk
SUMMARY:Garden Visits - Planning Meeting
DESCRIPTION:Planning Meeting Probably Saracens Head Towcester TBC\nPlease see Carole at the monthly meeting or call 01327 352564
URL:https://www.towcesteru3a.co.uk/event/garden-visits-planning-meeting
END:VEVENT
BEGIN:VEVENT
DTSTART;TZID=Europe/London:20191211T130000
DTEND;TZID=Europe/London:20191211T170000
DTSTAMP:20260423T043209
CREATED:20190926T145237Z
LAST-MODIFIED:20190926T145237Z
UID:2598-1576069200-1576083600@www.towcesteru3a.co.uk
SUMMARY:Theatre Visits - Aladdin
DESCRIPTION:Seats have now been reserved for Aladdin on Wednesday 11th December 1pm £16 Pay by 1st November
URL:https://www.towcesteru3a.co.uk/event/theatre-visits-aladdin
END:VEVENT
BEGIN:VEVENT
DTSTART;TZID=Europe/London:20191203T140000
DTEND;TZID=Europe/London:20191203T153000
DTSTAMP:20260423T043209
CREATED:20191023T172023Z
LAST-MODIFIED:20191023T172234Z
UID:2643-1575381600-1575387000@www.towcesteru3a.co.uk
SUMMARY:Quiz at the Sawpits
DESCRIPTION:No teams required just turn up
URL:https://www.towcesteru3a.co.uk/event/quiz-at-the-sawpits
LOCATION:The Sawpits Centre\, Richmond Road\, Towcester
END:VEVENT
BEGIN:VEVENT
DTSTART;TZID=Europe/London:20191129T123000
DTEND;TZID=Europe/London:20191129T150000
DTSTAMP:20260423T043209
CREATED:20190926T144546Z
LAST-MODIFIED:20190926T144546Z
UID:2593-1575030600-1575039600@www.towcesteru3a.co.uk
SUMMARY:Garden Visits - Christmas Lunch
DESCRIPTION:Christmas Meal Silverstone Golf Club arrive 12.30pm
URL:https://www.towcesteru3a.co.uk/event/garden-visits-christmas-lunch-2
LOCATION:Silverstone Golf Club\, Silverstone Road\, Stowe\, MK18 5LH
END:VEVENT
BEGIN:VEVENT
DTSTART;VALUE=DATE:20191129
DTEND;VALUE=DATE:20191130
DTSTAMP:20260423T043209
CREATED:20190731T201608Z
LAST-MODIFIED:20190731T201646Z
UID:2545-1574985600-1575071999@www.towcesteru3a.co.uk
SUMMARY:Garden Visits - Christmas Lunch
DESCRIPTION:See Carol Hunt as usual for details and bookings. Time to be confirmed \nNovember 29th
URL:https://www.towcesteru3a.co.uk/event/garden-visits-christmas-lunch
END:VEVENT
BEGIN:VEVENT
DTSTART;TZID=Europe/London:20191127T140000
DTEND;TZID=Europe/London:20191127T160000
DTSTAMP:20260423T043209
CREATED:20190926T143256Z
LAST-MODIFIED:20190926T143256Z
UID:2586-1574863200-1574870400@www.towcesteru3a.co.uk
SUMMARY:Monthly Meeting
DESCRIPTION:Andrew Tennet will talk about “30 years with Northamptonshire Police“.
URL:https://www.towcesteru3a.co.uk/event/monthly-meeting-12
LOCATION:Towcestrians Rugby Club\, Greens Norton Rd\,\, Towcester\, NN12 8AW
END:VEVENT
BEGIN:VEVENT
DTSTART;TZID=Europe/London:20191127T140000
DTEND;TZID=Europe/London:20191127T160000
DTSTAMP:20260423T043209
CREATED:20190621T132011Z
LAST-MODIFIED:20190621T132116Z
UID:2498-1574863200-1574870400@www.towcesteru3a.co.uk
SUMMARY:Monthly Meeting
DESCRIPTION:Andrew Tennet “30 years Service with Northamptonshire Police” \nOur speaker in November is “home grown”. Andrew Tennet is a member of To w c e s t e r U 3 A . H i s  t a l k  w i l l  c o v e r  h i s s e r v i c e w i t h N o r t h a m p t o n s h i r e Po l i c e from joining as a young Police Constable in November 1983 through to his retirement as a Detective Chief Inspector and focuses on his many experiences during that time. It follows his career from Community Constable to Sergeant and Inspector on reactive shifts to his progression to criminal investigation\, his specialism as a Senior Investigating Officer with the Force’s Homicide and Major Crime Team and latterly with the Professional Standards Department. His career came to a close working for Her Majesty’s Inspector of Constabulary. The presentation covers the ups and downs of a 30 year career including many anecdotes and stories of the good\, the not so good and the bizarre.
URL:https://www.towcesteru3a.co.uk/event/monthly-meeting-10
LOCATION:Towcestrians Rugby Club\, Greens Norton Road\, Towcester\, NN12 8AW
END:VEVENT
BEGIN:VEVENT
DTSTART;TZID=Europe/London:20191125T090000
DTEND;TZID=Europe/London:20191125T180000
DTSTAMP:20260423T043209
CREATED:20190926T150413Z
LAST-MODIFIED:20190926T150413Z
UID:2608-1574672400-1574704800@www.towcesteru3a.co.uk
SUMMARY:Coach Trip
DESCRIPTION:Winchester \nNovember. Cost £13. Depart Towcester 9am Return Departure 4pm
URL:https://www.towcesteru3a.co.uk/event/coach-trip
END:VEVENT
END:VCALENDAR